BEGIN:VCALENDAR
VERSION:2.0
CREATED:20260413T205159Z
PRODID:-//Infleqtion\, Inc./Equisolve Calendar v1.0//EN
METHOD:PUBLISH
BEGIN:VEVENT
UID:91d82d35a44254ac8f0b0e26eb166ca2
DTSTAMP:20260421T085244Z
DTSTART:20260416T000000
DTEND:20260417T000000
SUMMARY:Next Level: The Intersection of Quantum\, Capital\, Supply Chains and Open Source
DESCRIPTION:Next Level: The Intersection of Quantum\, Capital\, Supply Chains and Open Source\nDate: Apr 16\, 2026
END:VEVENT
END:VCALENDAR
